BEGIN:VCALENDAR
VERSION:2.0
PRODID:spatie/icalendar-generator
DESCRIPTION:Händelser från Camerata InCantus
X-WR-CALDESC:Händelser från Camerata InCantus
REFRESH-INTERVAL;VALUE=DURATION:PT1440M
X-PUBLISHED-TTL:PT1440M
BEGIN:VTIMEZONE
TZID:Europe/Stockholm
BEGIN:STANDARD
DTSTART:20251026T030000Z
TZOFFSETFROM:+0200
TZOFFSETTO:+0100
END:STANDARD
BEGIN:DAYLIGHT
DTSTART:20260329T020000Z
TZOFFSETFROM:+0100
TZOFFSETTO:+0200
END:DAYLIGHT
BEGIN:STANDARD
DTSTART:20261025T030000Z
TZOFFSETFROM:+0200
TZOFFSETTO:+0100
END:STANDARD
END:VTIMEZONE
BEGIN:VTIMEZONE
TZID:UTC
BEGIN:STANDARD
DTSTART:20250729T154736Z
TZOFFSETFROM:+0000
TZOFFSETTO:+0000
END:STANDARD
END:VTIMEZONE
BEGIN:VEVENT
UID:8-7
DTSTAMP:20260425T154736Z
SUMMARY:Natt i pingstens tider - Storkyrkan i Stockholm
LOCATION:Storkyrkan\, Stockholm Trångsund 1  Stockholm  11129
ORGANIZER;CN=Magnus Karlsson:MAILTO:magnus.ng.karlsson@gmail.com
DTSTART;TZID=Europe/Stockholm:20260524T160000
DTEND;TZID=Europe/Stockholm:20260524T170000
X-ALT-DESC;FMTTYPE=TEXT/HTML:Ett klingande panorama över nordisk och inter
 nationell körlyrik växer fram när InCantus bjuder på musik som rör si
 g mellan innerlighet\, rytmisk kraft och andlig förundran. Karl Jenkins v
 älkända stil förenar klassisk körprakt med etniska färger i Exsultate
 \, jubilate och Ave Maria ur Adiemus – Songs of Sanctuary. Samtida svens
 ka röster möter internationella i verk som&amp;hellip\;
CATEGORIES:General
URL;VALUE=URI:https://incantus.se/mc-events/natt-i-pingstens-tider-storkyrk
 an-i-stockholm/?mc_id=8
END:VEVENT
END:VCALENDAR